BEGIN:VCALENDAR
VERSION:2.0
PRODID:-//Bowmanville Hospital Foundation - ECPv6.15.20//NONSGML v1.0//EN
CALSCALE:GREGORIAN
METHOD:PUBLISH
X-WR-CALNAME:Bowmanville Hospital Foundation
X-ORIGINAL-URL:https://thebowmanvillehospitalfoundation.com
X-WR-CALDESC:Events for Bowmanville Hospital Foundation
REFRESH-INTERVAL;VALUE=DURATION:PT1H
X-Robots-Tag:noindex
X-PUBLISHED-TTL:PT1H
BEGIN:VTIMEZONE
TZID:America/Toronto
BEGIN:DAYLIGHT
TZOFFSETFROM:-0500
TZOFFSETTO:-0400
TZNAME:EDT
DTSTART:20230312T070000
END:DAYLIGHT
BEGIN:STANDARD
TZOFFSETFROM:-0400
TZOFFSETTO:-0500
TZNAME:EST
DTSTART:20231105T060000
END:STANDARD
BEGIN:DAYLIGHT
TZOFFSETFROM:-0500
TZOFFSETTO:-0400
TZNAME:EDT
DTSTART:20240310T070000
END:DAYLIGHT
BEGIN:STANDARD
TZOFFSETFROM:-0400
TZOFFSETTO:-0500
TZNAME:EST
DTSTART:20241103T060000
END:STANDARD
BEGIN:DAYLIGHT
TZOFFSETFROM:-0500
TZOFFSETTO:-0400
TZNAME:EDT
DTSTART:20250309T070000
END:DAYLIGHT
BEGIN:STANDARD
TZOFFSETFROM:-0400
TZOFFSETTO:-0500
TZNAME:EST
DTSTART:20251102T060000
END:STANDARD
END:VTIMEZONE
BEGIN:VEVENT
DTSTART;TZID=America/Toronto:20240908T163000
DTEND;TZID=America/Toronto:20240908T210000
DTSTAMP:20260421T054133
CREATED:20240816T185906Z
LAST-MODIFIED:20251024T144140Z
UID:55279-1725813000-1725829200@thebowmanvillehospitalfoundation.com
SUMMARY:Savour & Support at Chanterelle Bistro
DESCRIPTION:Experience an elegant 5-course meal at Chanterelle Bistro\, with long table dining\, supporting the We Care\, We Can campaign for Bowmanville Hospital. Enjoy fine dining and silent auction featuring exclusive items – all for a great cause. \nGrab your ticket today. \nhttps://savourandsupport.eventbrite.ca
URL:https://thebowmanvillehospitalfoundation.com/event/savour-support-at-chanterelle-bistro/
LOCATION:33 Division St\, Bowmanville\, ON L1C 2Z3\, 33 Division St\, Bowmanville\, ON L1C 2Z3\, Bowmanville\, Ontario\, L1C 2Z3\, Canada
CATEGORIES:Community Events,Members Only,We Care
ATTACH;FMTTYPE=image/png:https://thebowmanvillehospitalfoundation.com/wp-content/uploads/2024/08/EventBrite-Poster-Chanterelle.png
END:VEVENT
BEGIN:VEVENT
DTSTART;TZID=America/Toronto:20240918T180000
DTEND;TZID=America/Toronto:20240918T200000
DTSTAMP:20260421T054133
CREATED:20240816T192359Z
LAST-MODIFIED:20251024T144128Z
UID:55285-1726682400-1726689600@thebowmanvillehospitalfoundation.com
SUMMARY:We Care\, We Can Awareness Initiative Celebration
DESCRIPTION:It’s been a busy season for the We Care\, We Can Awareness Initiative! We’re excited by the powerful impact our local businesses are making. With your support\, we’re advancing toward a redeveloped hospital and improved healthcare in Clarington.\nJoin us on September 18th for an evening of networking with local businesses\, enjoying delicious food and drinks at Rolling Acres in Bowmanville. Let’s celebrate our progress and continue to strengthen our community together! \nhttps://wecarewecancelebration.eventbrite.ca
URL:https://thebowmanvillehospitalfoundation.com/event/we-care-we-can-awareness-initiative-celebration/
LOCATION:The Rolling Acres\, 2941 Taunton Rd\, Bowmanville\, Ontario\, L1C 3K5\, Canada
CATEGORIES:Community Events,We Care
ATTACH;FMTTYPE=image/png:https://thebowmanvillehospitalfoundation.com/wp-content/uploads/2024/08/Screenshot-2024-08-07-095037.png
END:VEVENT
BEGIN:VEVENT
DTSTART;TZID=America/Toronto:20240919T120000
DTEND;TZID=America/Toronto:20240919T190000
DTSTAMP:20260421T054133
CREATED:20240828T152906Z
LAST-MODIFIED:20251024T144121Z
UID:55318-1726747200-1726772400@thebowmanvillehospitalfoundation.com
SUMMARY:
DESCRIPTION:On Point Wealth Management is proud to present our 1st Annual Charity Golf Tournament on Thursday\, September 19\, 2024\, with proceeds benefiting the Bowmanville Hospital Foundation. \nLocation: Newcastle Golf Course \nCost: $800 per foursome. (Use link on following page to register) \nSponsorship Opportunities: \nBBQ Dinner Sponsor – $2\,500 \nLogo recognition on all promotional material\nCompany logo and recognition\nCompany logo on banner at the BBQ entrance\nIncludes 2 golfers\, please purchase additional green fees separately\nLunch Sponsor – $1\,000 \nLogo recognition on all promotional material\nCompany logo on lunch packages\nPurchase Green Fees Separately\nGolf Cart Sponsor – $500 \nLogo on golf carts\nPurchase Green Fees Separately\nHole Sponsor – $250 \nLogo recognition at sponsored hole\nPurchase Green Fees Separately\nRegistration: 11 am \nShotgun Tee-off: 12 pm \nBBQ: 5:30 (approximately) \nPRIZES: We plan to have some exciting surprises. All sponsors will receive a business receipt as per CRA Guidelines. A charitable tax receipt will be provided for a portion of each foursome and provided within 30 days from the date of the event. \nIf you wish to golf but do not have a team send an email to marie.kotsopoulos@onpointwealth.ca and steve.code@onpointwealth.ca you will be added to a waiting list.
URL:https://thebowmanvillehospitalfoundation.com/event/55318/
LOCATION:New Castle Golf and Country Club\, 2429 Golf Course Rd\, New Castle\, ONtario\, L1B1L9
CATEGORIES:Community Events,Members Only,We Care
ATTACH;FMTTYPE=image/jpeg:https://thebowmanvillehospitalfoundation.com/wp-content/uploads/2024/08/istockphoto-1404216385-612x612-1.jpg
END:VEVENT
END:VCALENDAR