BEGIN:VCALENDAR
VERSION:2.0
PRODID:-//Bowmanville Hospital Foundation - ECPv6.15.20//NONSGML v1.0//EN
CALSCALE:GREGORIAN
METHOD:PUBLISH
X-WR-CALNAME:Bowmanville Hospital Foundation
X-ORIGINAL-URL:https://thebowmanvillehospitalfoundation.com
X-WR-CALDESC:Events for Bowmanville Hospital Foundation
REFRESH-INTERVAL;VALUE=DURATION:PT1H
X-Robots-Tag:noindex
X-PUBLISHED-TTL:PT1H
BEGIN:VTIMEZONE
TZID:America/Toronto
BEGIN:DAYLIGHT
TZOFFSETFROM:-0500
TZOFFSETTO:-0400
TZNAME:EDT
DTSTART:20240310T070000
END:DAYLIGHT
BEGIN:STANDARD
TZOFFSETFROM:-0400
TZOFFSETTO:-0500
TZNAME:EST
DTSTART:20241103T060000
END:STANDARD
BEGIN:DAYLIGHT
TZOFFSETFROM:-0500
TZOFFSETTO:-0400
TZNAME:EDT
DTSTART:20250309T070000
END:DAYLIGHT
BEGIN:STANDARD
TZOFFSETFROM:-0400
TZOFFSETTO:-0500
TZNAME:EST
DTSTART:20251102T060000
END:STANDARD
BEGIN:DAYLIGHT
TZOFFSETFROM:-0500
TZOFFSETTO:-0400
TZNAME:EDT
DTSTART:20260308T070000
END:DAYLIGHT
BEGIN:STANDARD
TZOFFSETFROM:-0400
TZOFFSETTO:-0500
TZNAME:EST
DTSTART:20261101T060000
END:STANDARD
END:VTIMEZONE
BEGIN:VEVENT
DTSTART;VALUE=DATE:20250130
DTEND;VALUE=DATE:20250227
DTSTAMP:20260420T215714
CREATED:20250210T165636Z
LAST-MODIFIED:20250210T165800Z
UID:56138-1738195200-1740614399@thebowmanvillehospitalfoundation.com
SUMMARY:Split the Pot Lottery
DESCRIPTION:We’re thrilled to team up with Split the Pot Lottery once again! Get your tickets for a chance to win up to $300\,000 while supporting the redevelopment and expansion of Bowmanville Hospital. \n\n\nBuy your tickets here\,
URL:https://thebowmanvillehospitalfoundation.com/event/split-the-pot-lottery/
LOCATION:ON
CATEGORIES:Community Events
ATTACH;FMTTYPE=image/png:https://thebowmanvillehospitalfoundation.com/wp-content/uploads/2025/02/STPON_P25_1_1200x1200_cause_c.png
END:VEVENT
END:VCALENDAR