BEGIN:VCALENDAR
VERSION:2.0
PRODID:-//Bowmanville Hospital Foundation - ECPv6.15.20//NONSGML v1.0//EN
CALSCALE:GREGORIAN
METHOD:PUBLISH
X-WR-CALNAME:Bowmanville Hospital Foundation
X-ORIGINAL-URL:https://thebowmanvillehospitalfoundation.com
X-WR-CALDESC:Events for Bowmanville Hospital Foundation
REFRESH-INTERVAL;VALUE=DURATION:PT1H
X-Robots-Tag:noindex
X-PUBLISHED-TTL:PT1H
BEGIN:VTIMEZONE
TZID:America/Toronto
BEGIN:DAYLIGHT
TZOFFSETFROM:-0500
TZOFFSETTO:-0400
TZNAME:EDT
DTSTART:20210314T070000
END:DAYLIGHT
BEGIN:STANDARD
TZOFFSETFROM:-0400
TZOFFSETTO:-0500
TZNAME:EST
DTSTART:20211107T060000
END:STANDARD
BEGIN:DAYLIGHT
TZOFFSETFROM:-0500
TZOFFSETTO:-0400
TZNAME:EDT
DTSTART:20220313T070000
END:DAYLIGHT
BEGIN:STANDARD
TZOFFSETFROM:-0400
TZOFFSETTO:-0500
TZNAME:EST
DTSTART:20221106T060000
END:STANDARD
BEGIN:DAYLIGHT
TZOFFSETFROM:-0500
TZOFFSETTO:-0400
TZNAME:EDT
DTSTART:20230312T070000
END:DAYLIGHT
BEGIN:STANDARD
TZOFFSETFROM:-0400
TZOFFSETTO:-0500
TZNAME:EST
DTSTART:20231105T060000
END:STANDARD
END:VTIMEZONE
BEGIN:VEVENT
DTSTART;TZID=America/Toronto:20220111T080000
DTEND;TZID=America/Toronto:20220111T100000
DTSTAMP:20260423T114633
CREATED:20210708T205636Z
LAST-MODIFIED:20210708T205636Z
UID:52979-1641888000-1641895200@thebowmanvillehospitalfoundation.com
SUMMARY:Executive Committee Meeting
DESCRIPTION:
URL:https://thebowmanvillehospitalfoundation.com/event/executive-committee-meeting-4/
LOCATION:Ontario
CATEGORIES:Members Only
END:VEVENT
BEGIN:VEVENT
DTSTART;TZID=America/Toronto:20220111T130000
DTEND;TZID=America/Toronto:20220111T150000
DTSTAMP:20260423T114633
CREATED:20210708T205720Z
LAST-MODIFIED:20210708T205720Z
UID:52981-1641906000-1641913200@thebowmanvillehospitalfoundation.com
SUMMARY:Fund Development Committee Meeting
DESCRIPTION:
URL:https://thebowmanvillehospitalfoundation.com/event/fund-development-committee-meeting-3/
LOCATION:Ontario
CATEGORIES:Members Only
END:VEVENT
BEGIN:VEVENT
DTSTART;TZID=America/Toronto:20220112T080000
DTEND;TZID=America/Toronto:20220112T100000
DTSTAMP:20260423T114633
CREATED:20210708T205818Z
LAST-MODIFIED:20210708T205818Z
UID:52983-1641974400-1641981600@thebowmanvillehospitalfoundation.com
SUMMARY:FAR Committee Meeting
DESCRIPTION:
URL:https://thebowmanvillehospitalfoundation.com/event/far-committee-meeting-4/
LOCATION:Ontario
CATEGORIES:Members Only
END:VEVENT
BEGIN:VEVENT
DTSTART;TZID=America/Toronto:20220113T080000
DTEND;TZID=America/Toronto:20220113T100000
DTSTAMP:20260423T114633
CREATED:20210708T205849Z
LAST-MODIFIED:20210708T205849Z
UID:52985-1642060800-1642068000@thebowmanvillehospitalfoundation.com
SUMMARY:Governance Committee Meeting
DESCRIPTION:
URL:https://thebowmanvillehospitalfoundation.com/event/governance-committee-meeting-4/
LOCATION:Ontario
CATEGORIES:Members Only
END:VEVENT
END:VCALENDAR