BEGIN:VCALENDAR
VERSION:2.0
PRODID:-//Bowmanville Hospital Foundation - ECPv6.15.20//NONSGML v1.0//EN
CALSCALE:GREGORIAN
METHOD:PUBLISH
X-WR-CALNAME:Bowmanville Hospital Foundation
X-ORIGINAL-URL:https://thebowmanvillehospitalfoundation.com
X-WR-CALDESC:Events for Bowmanville Hospital Foundation
REFRESH-INTERVAL;VALUE=DURATION:PT1H
X-Robots-Tag:noindex
X-PUBLISHED-TTL:PT1H
BEGIN:VTIMEZONE
TZID:America/Toronto
BEGIN:DAYLIGHT
TZOFFSETFROM:-0500
TZOFFSETTO:-0400
TZNAME:EDT
DTSTART:20250309T070000
END:DAYLIGHT
BEGIN:STANDARD
TZOFFSETFROM:-0400
TZOFFSETTO:-0500
TZNAME:EST
DTSTART:20251102T060000
END:STANDARD
BEGIN:DAYLIGHT
TZOFFSETFROM:-0500
TZOFFSETTO:-0400
TZNAME:EDT
DTSTART:20260308T070000
END:DAYLIGHT
BEGIN:STANDARD
TZOFFSETFROM:-0400
TZOFFSETTO:-0500
TZNAME:EST
DTSTART:20261101T060000
END:STANDARD
BEGIN:DAYLIGHT
TZOFFSETFROM:-0500
TZOFFSETTO:-0400
TZNAME:EDT
DTSTART:20270314T070000
END:DAYLIGHT
BEGIN:STANDARD
TZOFFSETFROM:-0400
TZOFFSETTO:-0500
TZNAME:EST
DTSTART:20271107T060000
END:STANDARD
END:VTIMEZONE
BEGIN:VEVENT
DTSTART;TZID=America/Toronto:20260624T173000
DTEND;TZID=America/Toronto:20260624T190000
DTSTAMP:20260425T122941
CREATED:20260424T153637Z
LAST-MODIFIED:20260424T153637Z
UID:57937-1782322200-1782327600@thebowmanvillehospitalfoundation.com
SUMMARY:2025/2026 Annual General Meeting
DESCRIPTION:Join the Bowmanville Hospital Foundation for our 2026 Annual General Meeting – an evening to reflect on the year behind us\, celebrate the power of community generosity\, and look ahead to the future of care at Lakeridge Health Bowmanville Hospital. \nThis year’s theme\, 50 Years of Impact\, marks five decades of transforming generosity into exceptional health care close to home. As we celebrate this milestone\, we also recognize the momentum building for what comes next. Every achievement this year has been made possible by donors\, partners\, and advocates who believe in the power of local care. \nEVENT DETAILS \nDate: Wednesday\, June 24Time: Doors open at 5:30 p.m. | Program begins at 6:00 p.m.Location: The Rolling Acres \n— \nWHAT TO EXPECT \nHealth System Update \nHear the latest from Lakeridge Health on redevelopment planning\, regional collaboration\, and what the future hospital will mean for patients and families in Clarington and across Durham Region. \nYear in Review \nMaria Petri\, CEO\, Bowmanville Hospital Foundation\, will share highlights from the past year\, including fundraising milestones\, campaign progress\, and the growing momentum behind the We Care\, We Can campaign. \nCommunity Update \nLocal leaders will speak to the importance of Bowmanville Hospital within our growing community and the partnerships helping move this transformational project forward. \nStories of Impact \nHear directly from members of our community about how philanthropy is shaping care close to home. \nGuest Speaker \nTo be announced. \nFood & Beverage \nAn assortment of light refreshments will be served. \n— \nWHY ATTEND \nThis event is more than a governance requirement. It is an opportunity to see the real impact of your support\, hear how community generosity is advancing care close to home\, and understand what comes next for Bowmanville Hospital. \nJoin us to celebrate the milestones we have achieved together\, gain insight into the progress of the once-in-a-generation redevelopment\, and connect with fellow supporters who share a commitment to exceptional local health care. Your presence reflects the strength of this community\, and your continued engagement helps shape the future of care for generations to come.
URL:https://thebowmanvillehospitalfoundation.com/event/2025-2026-annual-general-meeting/
LOCATION:The Rolling Acres\, 2941 Taunton Rd\, Bowmanville\, Ontario\, L1C 3K5\, Canada
CATEGORIES:Community Events
ATTACH;FMTTYPE=image/png:https://thebowmanvillehospitalfoundation.com/wp-content/uploads/2026/04/Website-event-banners-1200-x-800-px-4.png
ORGANIZER;CN="Bowmanville Hospital Foundation":MAILTO:bhfoundation@lh.ca
END:VEVENT
END:VCALENDAR